BEGIN:VCALENDAR
VERSION:2.0
PRODID:-//https://www.rechentherapie-koeln.de///NONSGML kigkonsult.se iCalcreator 2.10.15//
METHOD:PUBLISH
BEGIN:VEVENT
UID:20260421T115407CEST-5973oIxpoV@https://www.rechentherapie-koeln.de/
DTSTAMP:20260421T095407Z
DESCRIPTION:\nSymptome von Schwierigkeiten in der Mathematik\nDifferenzieru
 ng schwacher Rechner – Rechenschwacher – „fauler“ Schüler\nVorstellung nie
 derschwelliger Diagnosemöglichkeiten für die Schule\nEntscheidung über int
 erne/externe Hilfsangebote\nWege und Irrwege des Rechnens\nAuswirkungen vo
 n massiven mathematischen Problemen im Verlaufe der Schulzeit\nStolperstei
 ne in der Mathematik und Methoden\, diese im Unterricht/ Förderunterricht 
 zu umgehen\nImpulse für den Schulunterricht\nMethoden\, für den Einsatz in
  Schulklassen mit dem Ziel eines tieferen&nbsp\;mathematischen Verständnis
 ses.\nBasiswissen entwickeln und nutzen lernen\; Beispiele für die Förderu
 ng aller Schüler\n https://www.rechentherapie-koeln.de/termine/terminverze
 ichnis/event/998-zfsl-solingen-mathestress-bis-dyskalkulie
DTSTART:20180903T131000Z
DTEND:20180903T144000Z
LOCATION:Zentrum für schulpraktische Studien Siegburg (Industriestraße 40\,
  53721 Siegburg\, Deutschland)
SUMMARY: ZfsL Solingen: Mathestress bis Dyskalkulie
URL:https://www.rechentherapie-koeln.de/termine/terminverzeichnis/event/998
 -zfsl-solingen-mathestress-bis-dyskalkulie
END:VEVENT
END:VCALENDAR
