BEGIN:VCALENDAR
VERSION:2.0
PRODID:-//https://www.rechentherapie-koeln.de///NONSGML kigkonsult.se iCalcreator 2.10.15//
METHOD:PUBLISH
BEGIN:VEVENT
UID:20260423T115443CEST-443400UhZd@https://www.rechentherapie-koeln.de/
DTSTAMP:20260423T095443Z
DESCRIPTION:\nSymptome von Schwierigkeiten in der Mathematik\nDifferenzieru
 ng schwacher Rechner – Rechenschwacher – „fauler“ Schüler\nVorstellung nie
 derschwelliger Diagnosemöglichkeiten für die Schule\nEntscheidung über int
 erne/externe Hilfsangebote\nWege und Irrwege des Rechnens\nAuswirkungen vo
 n massiven mathematischen Problemen im Verlaufe der Schulzeit\nStolperstei
 ne in der Mathematik und Methoden\, diese im Unterricht/ Förderunterricht 
 zu umgehen\nImpulse für den Schulunterricht\nMethoden\, für den Einsatz in
  Schulklassen mit dem Ziel eines tieferen&nbsp\;mathematischen Verständnis
 ses.\nBasiswissen entwickeln und nutzen lernen\; Beispiele für die Förderu
 ng aller Schüler\n https://www.rechentherapie-koeln.de/termine/terminverze
 ichnis/event/994-vertrags-abend-rechenschwaeche-dyskalkulie-fuer-eltern-un
 d-lehrer
DTSTART:20171130T180000Z
DTEND:20171130T200000Z
LOCATION:Europa-Gesamtschule-Brühl (Otto-Wels-Straße 1\, 50321 Brühl\, Deut
 schland)
SUMMARY:Vertrags-Abend Rechenschwäche/Dyskalkulie für Eltern und Lehrer
URL:https://www.rechentherapie-koeln.de/termine/terminverzeichnis/event/994
 -vertrags-abend-rechenschwaeche-dyskalkulie-fuer-eltern-und-lehrer
END:VEVENT
END:VCALENDAR
