BEGIN:VCALENDAR
VERSION:2.0
PRODID:-//https://www.rechentherapie-koeln.de///NONSGML kigkonsult.se iCalcreator 2.10.15//
METHOD:PUBLISH
BEGIN:VEVENT
UID:20260419T163608CEST-0593Alpuug@https://www.rechentherapie-koeln.de/
DTSTAMP:20260419T143608Z
DESCRIPTION:geschlossene Lehrerfortbildung https://www.rechentherapie-koeln
 .de/termine/terminverzeichnis/event/993-kopie-von-lehrerfortbildung-dyskal
 kulie-rechenschwaeche-in-der-schule
DTSTART:20180226T120000Z
DTEND:20180226T150000Z
LOCATION:Heinrich Böll Schule  (An der Mergelskaul 22\, 50226 Frechen\, Deu
 tschland)
SUMMARY:Kopie von Lehrerfortbildung Dyskalkulie/Rechenschwäche in der Schul
 e
URL:https://www.rechentherapie-koeln.de/termine/terminverzeichnis/event/993
 -kopie-von-lehrerfortbildung-dyskalkulie-rechenschwaeche-in-der-schule
END:VEVENT
END:VCALENDAR
