BEGIN:VCALENDAR
VERSION:2.0
PRODID:-//https://www.rechentherapie-koeln.de///NONSGML kigkonsult.se iCalcreator 2.10.15//
METHOD:PUBLISH
BEGIN:VEVENT
UID:20260421T104025CEST-0293Pd6BCd@https://www.rechentherapie-koeln.de/
DTSTAMP:20260421T084025Z
DESCRIPTION:Wenn in Mathematik nichts gelingt\, liegt das nicht zwangsläufi
 g nur an Wissenslücken. Viele 'Matheversager“ haben bereits so starke Angs
 t vor Mathematikaufgaben entwickelt\, dass sie schon beim Anblick einer Au
 fgabe panisch reagieren und dadurch handlungsunfähig werden.&nbsp\;Mit jed
 er Aufgabe\, die sie nicht lösen können\, steigt ihre Angst vor der nächst
 en Aufgabe. Je stärker die Angst\, desto weniger Chancen haben sie\, die n
 ächste Aufgabe lösen zu können. Ein Teufelskreis beginnt.&nbsp\;Dass das k
 eine Anstellerei ist\, zeigen Hirnscanns: beim Anblick einer Matheaufgabe 
 werden bei Betroffenen die gleichen Areale im Gehirn aktiviert\, wie bei r
 ealen Schmerzen.&nbsp\;Konzentriert man sich bei der Förderung solcher Sch
 üler und Erwachsener ausschließlich auf nicht verstandene mathematische Th
 emen\, kann kein Erfolg zustande kommen.&nbsp\;In diesem Webinar lernen Si
 e\, wie Sie Matheangst erkennen\, wie wird sie behandeln und wie zu Hause 
 oder in der Schule geholfen werden kann.Kostenlose Anmeldung: -&gt\;klick 
 https://www.rechentherapie-koeln.de/termine/terminverzeichnis/event/981-ma
 theangst-ueberwinden-online-vortrag
DTSTART:20160519T173000Z
DTEND:20160519T180000Z
LOCATION:Online ()
SUMMARY:Matheangst überwinden - Online-Vortrag
URL:https://www.rechentherapie-koeln.de/termine/terminverzeichnis/event/981
 -matheangst-ueberwinden-online-vortrag
END:VEVENT
END:VCALENDAR
