BEGIN:VCALENDAR
VERSION:2.0
PRODID:-//https://www.rechentherapie-koeln.de///NONSGML kigkonsult.se iCalcreator 2.10.15//
METHOD:PUBLISH
BEGIN:VEVENT
UID:20260421T121114CEST-97675w9C3P@https://www.rechentherapie-koeln.de/
DTSTAMP:20260421T101114Z
DESCRIPTION:Mit Spaß und Forscherdrang in die Welt der Mengen und Zahlen. M
 athematik sollte man nicht erklärt bekommen\, sondern entdecken dürfen. Da
 s geht\, weil unsere Umwelt und unser Alltag voller mathematischer Herausf
 orderungen und Erlebnisse ist. Ein perfektes Trainingslager also für klein
 e und große Forscher ab 2 Jahren. Die Fortbildung hat die Zielsetzung\, di
 e mathematische Basisförderung im Alltag der KITA fest zu verankern. So da
 ss den Kindern auch abseits von standardisierten Förderprogrammen mit viel
  Kreativität und Spaß ein unverkrampfter Umgang mit mathematischen Alltags
 themen ermöglicht werden kann. Lernprozesse sollen hierbei möglichst nur p
 rovoziert und moderiert werden\, nicht aber stringent von Erwachsenen vorg
 egeben oder geleitet. Das Spielen und Forschen in der Gruppe steht im Mitt
 elpunkt\, damit Kinder lustvoll die Erfahrungen sammeln können\, die sie s
 päter für das Verständnis der Schulmathematik brauchen. Die Rolle der Erzi
 eher(innen) entspricht dabei der eines Mitforschers\, Lernbegleiters und B
 eobachters. Themenschwerpunkte: Rechnen lernen/mathematische Basiskompeten
 zen wichtige Entwicklungsstufen und deren zeitliche Zuordnung Vorläuferfun
 ktionen\, auf die die Schule aufbaut Auffälligkeiten im Rechenlernprozess 
 Auswirkungen von basalen Problemen auf die Schulzeit Zwei Namen für mathem
 atische Unsicherheiten: Rechenschwäche und Dyskalkulie Förderung: Sensibil
 isierung: Wo gibt es im Kindergartenalltag mathematische Anforderungen Ken
 nenlernen und Installieren von speziellen Alltags-Ritualen zur mathematisc
 hen Förderung Förderanlässe im KITA-Alltag erkennen und nutzen Elternarbei
 t zur Verknüpfung der Förderung im Kindergarten mit der elterlichen Beglei
 tung Mathematik ganzheitlich und mit allen Sinnen erfahren Kennenlernen au
 sgewählter Fördermodelle &nbsp\; Zweitägige Veranstaltung https://www.rech
 entherapie-koeln.de/termine/terminverzeichnis/event/978-fortbildung-fuer-e
 rzieherinnen-der-koeln-kitas-lass-uns-die-mathematik-entdecken
DTSTART:20170619T070000Z
DTEND:20170619T140000Z
LOCATION:Köln Kitas ()
SUMMARY:Fortbildung für Erzieherinnen der Köln Kitas: Lass uns die Mathemat
 ik entdecken!
URL:https://www.rechentherapie-koeln.de/termine/terminverzeichnis/event/978
 -fortbildung-fuer-erzieherinnen-der-koeln-kitas-lass-uns-die-mathematik-en
 tdecken
END:VEVENT
END:VCALENDAR
