BEGIN:VCALENDAR
VERSION:2.0
PRODID:-//https://www.rechentherapie-koeln.de///NONSGML kigkonsult.se iCalcreator 2.10.15//
METHOD:PUBLISH
BEGIN:VEVENT
UID:20260423T114808CEST-8766kDHUPg@https://www.rechentherapie-koeln.de/
DTSTAMP:20260423T094808Z
DESCRIPTION: https://www.rechentherapie-koeln.de/termine/terminverzeichnis/
 event/973-fortbildungstag-primar-sek-1
DTSTART:20160425T090000Z
DTEND:20160425T160000Z
LOCATION:Schule Auguststraße\, Köln (Auguststraße 1\, 50733 Köln\, Deutschl
 and)
SUMMARY:Fortbildungstag Primar/Sek 1
URL:https://www.rechentherapie-koeln.de/termine/terminverzeichnis/event/973
 -fortbildungstag-primar-sek-1
END:VEVENT
END:VCALENDAR
