BEGIN:VCALENDAR
VERSION:2.0
PRODID:-//https://www.rechentherapie-koeln.de///NONSGML kigkonsult.se iCalcreator 2.10.15//
METHOD:PUBLISH
BEGIN:VEVENT
UID:20260421T121253CEST-9118V70Ber@https://www.rechentherapie-koeln.de/
DTSTAMP:20260421T101253Z
DESCRIPTION:Seminar: Schriftspracherwerb und Erwerb mathematischer Vorstell
 ungen unter Berücksichtigung von Kindern und Jugendlichen mit dem FS geist
 ige EntwicklungThema:&nbsp\;Förderung mathematischer Grundkompetenzen in d
 er Förderschule https://www.rechentherapie-koeln.de/termine/terminverzeich
 nis/event/967-uni-koeln-erwerb-mathematischer-grundkompetenzen-und-ganzhei
 tliches-begreifen-der-mathematik
DTSTART:20151217T140000Z
DTEND:20151217T153000Z
LOCATION:Universität zu Köln\, Heilpädagogische Fakultät ()
SUMMARY:Uni Köln: Erwerb mathematischer Grundkompetenzen und ganzheitliches
  Begreifen der Mathematik
URL:https://www.rechentherapie-koeln.de/termine/terminverzeichnis/event/967
 -uni-koeln-erwerb-mathematischer-grundkompetenzen-und-ganzheitliches-begre
 ifen-der-mathematik
END:VEVENT
END:VCALENDAR
