BEGIN:VCALENDAR
VERSION:2.0
PRODID:-//https://www.rechentherapie-koeln.de///NONSGML kigkonsult.se iCalcreator 2.10.15//
METHOD:PUBLISH
BEGIN:VEVENT
UID:20260421T120833CEST-7713si1VEb@https://www.rechentherapie-koeln.de/
DTSTAMP:20260421T100833Z
DESCRIPTION:Themen:- Wie lernen Kinder das Rechnen?&nbsp\; (Wege und Irrweg
 e)- Möglichkeiten der Prävention von Schwierigkeiten in Mathematik (schuli
 sch + außerschulisch)- analog - digital\, was hilft für das Verständnis de
 r Mathematik am besten?- Diagnosemöglichkeiten für den Schulunterricht- kl
 assische Diagnostik einer Dyskalkulie- bewährte und neue Wege der Förderun
 g (schulisch + außerschulisch)- Möglichkeiten der Identifizierung von Risi
 kokindern in Klassenverbund- Konkrete Fördermöglichkeiten in der Primarstu
 fe- Problemverschärfende Bedingungen- Ideen für die Elternarbeit- Literatu
 rtipps und Material https://www.rechentherapie-koeln.de/termine/terminverz
 eichnis/event/960-lehrerfortbildung-rechenschwache-schueler-in-der-sek-1
DTSTART:20150818T133000Z
DTEND:20150818T163030Z
LOCATION:Otto Lilienthal Realschule (Albert-Schweitzer-Straße\, 50968 Köln\
 , Deutschland)
SUMMARY:Lehrerfortbildung: Rechenschwache Schüler in der Sek 1
URL:https://www.rechentherapie-koeln.de/termine/terminverzeichnis/event/960
 -lehrerfortbildung-rechenschwache-schueler-in-der-sek-1
END:VEVENT
END:VCALENDAR
