BEGIN:VCALENDAR
VERSION:2.0
PRODID:-//https://www.rechentherapie-koeln.de///NONSGML kigkonsult.se iCalcreator 2.10.15//
METHOD:PUBLISH
BEGIN:VEVENT
UID:20260421T121005CEST-6590Kb7bgp@https://www.rechentherapie-koeln.de/
DTSTAMP:20260421T101005Z
DESCRIPTION:	Symptome von Schwierigkeiten in der Mathematik	Differenzierung
  schwacher Rechner – Rechenschwacher – „fauler“ Schüler	Vorstellung nieder
 schwelliger Diagnosemöglichkeiten für die Schule	Entscheidung über interne
 /externe Hilfsangebote	Wege und Irrwege des Rechnens	Auswirkungen von mass
 iven mathematischen Problemen im Verlaufe der Schulzeit	Stolpersteine in d
 er Mathematik und Methoden\, diese im Unterricht/ Förderunterricht zu umge
 hen	Impulse für den Schulunterricht	Methoden\, für den Einsatz in Schulkla
 ssen mit dem Ziel eines tieferen mathematischen Verständnisses.	Basiswisse
 n entwickeln und nutzen lernen\; Beispiele für die Förderung aller Schüler
  https://www.rechentherapie-koeln.de/termine/terminverzeichnis/event/958-z
 fsl-koeln-mathestress-bis-dyskalkulie
DTSTART:20150612T150000Z
DTEND:20150612T153000Z
LOCATION:Zentrum für schulpraktische Studien Köln ()
SUMMARY:ZfsL Köln: Mathestress bis Dyskalkulie
URL:https://www.rechentherapie-koeln.de/termine/terminverzeichnis/event/958
 -zfsl-koeln-mathestress-bis-dyskalkulie
END:VEVENT
END:VCALENDAR
