BEGIN:VCALENDAR
VERSION:2.0
PRODID:-//https://www.rechentherapie-koeln.de///NONSGML kigkonsult.se iCalcreator 2.10.15//
METHOD:PUBLISH
BEGIN:VEVENT
UID:20260421T104715CEST-2247JkruFT@https://www.rechentherapie-koeln.de/
DTSTAMP:20260421T084715Z
DESCRIPTION:kostenloses Online-Seminar. Anmeldung: klickRechnen kann doch j
 eder\, oder? - So lernen Kinder rechnen.Referent: Torsten Landwehr\, Reche
 ntherapiezentrum KölnAn diesem Abend wird folgenden Fragen auf den Grund g
 egangen:	Wie lernen Kinder rechnen?	Welche Stolpersteine gibt es auf dem W
 eg zum guten Rechner?	Was ist förderlich und was hindert?	Was kann zu Haus
 e helfen\, die Mathematik gut zu verstehen?	Wie kann ich Unsicherheiten in
  Mathematik bei meinem Kind einordnen?	Wie unterstütze ich mein Kind in de
 n verschiedenen Phasen der Kindergartenzeit und der Schulzeit optimal?Nach
  einem unterhaltsamen Einstieg in die wesentlichen Grundlagen stehen Anreg
 ungen für die häusliche Unterstützung im Vordergrund. Ziel ist es hierbei 
 leicht umsetzbare Wege zu zeigen\, die Kindern und Jugendlichen das Verstä
 ndnis der Mathematik näher bringen und Spaß machen. Also: Erfolgreiche Alt
 ernativen zum sturen Pauken und oft zähen Ausfüllen von gekauften Übungshe
 ften.Teilnahme kostenlose\, Anmeldung erforderlich: Email https://www.rech
 entherapie-koeln.de/termine/terminverzeichnis/event/956-online-elternabend
 -erfolgreich-in-mathe-helfen
DTSTART:20150210T200000Z
DTEND:20150210T213000Z
LOCATION:Online ()
SUMMARY:online-Elternabend: Erfolgreich in Mathe helfen
URL:https://www.rechentherapie-koeln.de/termine/terminverzeichnis/event/956
 -online-elternabend-erfolgreich-in-mathe-helfen
END:VEVENT
END:VCALENDAR
