BEGIN:VCALENDAR
VERSION:2.0
PRODID:-//https://www.rechentherapie-koeln.de///NONSGML kigkonsult.se iCalcreator 2.10.15//
METHOD:PUBLISH
BEGIN:VEVENT
UID:20260421T104921CEST-0713kdaUuk@https://www.rechentherapie-koeln.de/
DTSTAMP:20260421T084921Z
DESCRIPTION:Themen:- Wie lernen Kinder das Rechnen?  (Wege und Irrwege)- Mö
 glichkeiten der Prävention von Schwierigkeiten in Mathematik (schulisch + 
 außerschulisch)- analog - digital\, was hilft für das Verständnis der Math
 ematik am besten?- Diagnosemöglichkeiten für den Schulunterricht- klassisc
 he Diagnostik einer Dyskalkulie- bewährte und neue Wege der Förderung (sch
 ulisch + außerschulisch)- Möglichkeiten der Identifizierung von Risikokind
 ern in Klassenverbund- Konkrete Fördermöglichkeiten in der Primarstufe- Pr
 oblemverschärfende Bedingungen- Ideen für die Elternarbeit- Literaturtipps
  und Materialien https://www.rechentherapie-koeln.de/termine/terminverzeic
 hnis/event/953-foerderschule-rosenzweigweg-mathestress-bis-dyskalkulie
DTSTART:20150120T120000Z
DTEND:20150120T160000Z
LOCATION:Förderschule Rosenzweigweg ()
SUMMARY:Förderschule Rosenzweigweg: Mathestress bis Dyskalkulie
URL:https://www.rechentherapie-koeln.de/termine/terminverzeichnis/event/953
 -foerderschule-rosenzweigweg-mathestress-bis-dyskalkulie
END:VEVENT
END:VCALENDAR
