BEGIN:VCALENDAR
VERSION:2.0
PRODID:-//https://www.rechentherapie-koeln.de///NONSGML kigkonsult.se iCalcreator 2.10.15//
METHOD:PUBLISH
BEGIN:VEVENT
UID:20260423T115227CEST-055356vxDo@https://www.rechentherapie-koeln.de/
DTSTAMP:20260423T095227Z
DESCRIPTION:Gastdozent für das Seminar'Schriftspracherwerb und Erwerb mathe
 matischer Vorstellungen unter Berücksichtigung von Kindern und Jugendliche
 n mit dem FS geistige Entwicklung'Seminar für die Universität Köln/Pädagog
 ik und Didaktik bei Menschen mit geistiger Behinderung https://www.rechent
 herapie-koeln.de/termine/terminverzeichnis/event/943-erwerb-mathematischer
 -grundkompetenzen-und-begreifen-der-mathematik
DTSTART:20140603T100000Z
DTEND:20140603T113000Z
LOCATION:Universität zu Köln\, Heilpädagogische Fakultät ()
SUMMARY:Erwerb mathematischer Grundkompetenzen und Begreifen der Mathematik
URL:https://www.rechentherapie-koeln.de/termine/terminverzeichnis/event/943
 -erwerb-mathematischer-grundkompetenzen-und-begreifen-der-mathematik
END:VEVENT
END:VCALENDAR
