BEGIN:VCALENDAR
VERSION:2.0
PRODID:-//https://www.rechentherapie-koeln.de///NONSGML kigkonsult.se iCalcreator 2.10.15//
METHOD:PUBLISH
BEGIN:VEVENT
UID:20260421T103207CEST-252960VrpI@https://www.rechentherapie-koeln.de/
DTSTAMP:20260421T083207Z
DESCRIPTION:Viele Kinder schaffen es\, beste Mathenoten in der Grundschule 
 zu erzielen\, obwohl sie die Mathematik eigentlich überhaupt nicht verstan
 den haben. Das liegt daran\, dass es in Mathe möglich ist\, auch durch Zäh
 len und auswendig gelernte Tricks zum richtigen Ergebnis zu kommen\, ohne 
 die eigentlichen Rechenwege zu begreifen. Früher oder später führt das all
 erdings zu gravierenden Problemen\, weil ab einem bestimmten Punkt das Aus
 wendiglernen nicht mehr reicht\, sondern echtes Verständnis über die Zusam
 menhänge der Mathematik erforderlich ist.Ein richtiges Ergebnis zu erziele
 n heißt nocht nicht\, dass eine Thema auf begriffen wurde. In diesem Webin
 ar erfahren Sie\, worauf Sie achten müssen und was Unsicherheiten bedeuten
 .Im Anschluss an dieses Webinar können Sie im Chat Ihre Fragen stellen.Ach
 tung. Wir können nur einen Platz für Sie reservieren\, wenn Sie frühzeitig
  auf 'Am Webinar teilnehmen' klicken. Anmeldung: http://mathevision.smile2
 .de/mathecheck-ist-mein-kind-fit-fuer-die-5-klasse https://www.rechenthera
 pie-koeln.de/termine/terminverzeichnis/event/942-online-seminar-mathe-tuev
 -8211-ist-mein-kind-fit-fuer-die-5-klasse
DTSTART:20140602T200000Z
DTEND:20140602T203000Z
LOCATION:Online ()
SUMMARY:Online-Seminar: Mathe-TÜV &#8211\; Ist mein Kind fit für die 5. Kla
 sse?
URL:https://www.rechentherapie-koeln.de/termine/terminverzeichnis/event/942
 -online-seminar-mathe-tuev-8211-ist-mein-kind-fit-fuer-die-5-klasse
END:VEVENT
END:VCALENDAR
