BEGIN:VCALENDAR
VERSION:2.0
PRODID:-//https://www.rechentherapie-koeln.de///NONSGML kigkonsult.se iCalcreator 2.10.15//
METHOD:PUBLISH
BEGIN:VEVENT
UID:20260423T115953CEST-2074AXT7Gh@https://www.rechentherapie-koeln.de/
DTSTAMP:20260423T095953Z
DESCRIPTION:Ein richtiges Ergebnis zu erzielen heißt nocht nicht\, dass ein
 e Thema auf begriffen wurde. In diesem Webinar erfahren Sie\, worauf Sie a
 chten müssen und was Unsicherheiten bedeuten.&nbsp\;kostenlose Anmeldung: 
 http://mathevision.smile2.de/mathecheck-ist-mein-kind-fit-fuer-die-5-klass
 e https://www.rechentherapie-koeln.de/termine/terminverzeichnis/event/940-
 mathecheck-ist-mein-kind-fit-fuer-die-5-klasse
DTSTART:20140528T200000Z
DTEND:20140528T204500Z
LOCATION:Online ()
SUMMARY:Mathecheck: Ist mein Kind fit für die 5. Klasse?
URL:https://www.rechentherapie-koeln.de/termine/terminverzeichnis/event/940
 -mathecheck-ist-mein-kind-fit-fuer-die-5-klasse
END:VEVENT
END:VCALENDAR
