BEGIN:VCALENDAR
VERSION:2.0
PRODID:-//https://www.rechentherapie-koeln.de///NONSGML kigkonsult.se iCalcreator 2.10.15//
METHOD:PUBLISH
BEGIN:VEVENT
UID:20260421T133023CEST-48096UbnmC@https://www.rechentherapie-koeln.de/
DTSTAMP:20260421T113023Z
DESCRIPTION:Wenn Schüler ein Thema nicht mehr begreifen\, fällt es oft gar 
 nicht direkt auf. Gerade begabte Kinder und jene\, die viel Lernen\, könne
 n Aufgaben zunächst noch ohne echtes Verständnis lösen. Wenn die Probleme 
 offentsichtlich werden\, ist es oft schon schwierig zu erkennen\, was eige
 ntlich die Ursache ist. In diesem Onlineseminar berichtet Matheexperte Tor
 sten Landwehr aus seiner Analyse-Praxis und gibt gut umsetzbare Tipps für 
 den Einsatz im Schulunterricht.&nbsp\;Anmeldung und Info: http://mathevisi
 on.smile2.de/mathe-probleme-Schule-erkennen https://www.rechentherapie-koe
 ln.de/termine/terminverzeichnis/event/938-onlineseminar-fuer-lehrer-innen-
 matheprobleme-von-schuelern-erkennen-und-deuten
DTSTART:20140526T183000Z
DTEND:20140526T193000Z
LOCATION:Online ()
SUMMARY:Onlineseminar für Lehrer/-innen: Matheprobleme von Schülern erkenne
 n und deuten
URL:https://www.rechentherapie-koeln.de/termine/terminverzeichnis/event/938
 -onlineseminar-fuer-lehrer-innen-matheprobleme-von-schuelern-erkennen-und-
 deuten
END:VEVENT
END:VCALENDAR
