BEGIN:VCALENDAR
VERSION:2.0
PRODID:-//https://www.rechentherapie-koeln.de///NONSGML kigkonsult.se iCalcreator 2.10.15//
METHOD:PUBLISH
BEGIN:VEVENT
UID:20260421T114109CEST-8033HboSlo@https://www.rechentherapie-koeln.de/
DTSTAMP:20260421T094109Z
DESCRIPTION:KurzbeschreibungBei jedem Termin betrachten wir ein Schwerpunkt
 thema der Mathematik ganz genau:- Wofür braucht ein Schüler dieses Thema?-
  Wie finden Schüler den richtigen Zugang zum Thema?- Was können wir tun\, 
 damit das Thema bestens verstanden und nicht mehr vergessen wird.Nach dem 
 Fachimpuls können Fragen gestellt werden\, auf die detailliert eingegangen
  wird.Bitte schon jetzt anmelden und einen Platz sichern.&nbsp\;Anmeldung:
  http://mathevision.smile2.de/der-matheworkshop-1x1 https://www.rechenther
 apie-koeln.de/termine/terminverzeichnis/event/937-matheworkshop-fuer-elter
 n-und-lehrer-das-1-215-1-kostenlose-online-veranstaltung
DTSTART:20140411T153000Z
DTEND:20140411T160000Z
LOCATION:Online ()
SUMMARY:Matheworkshop für Eltern und Lehrer: Das 1&#215\;1 (kostenlose Onli
 ne-Veranstaltung)
URL:https://www.rechentherapie-koeln.de/termine/terminverzeichnis/event/937
 -matheworkshop-fuer-eltern-und-lehrer-das-1-215-1-kostenlose-online-verans
 taltung
END:VEVENT
END:VCALENDAR
