BEGIN:VCALENDAR
VERSION:2.0
PRODID:-//https://www.rechentherapie-koeln.de///NONSGML kigkonsult.se iCalcreator 2.10.15//
METHOD:PUBLISH
BEGIN:VEVENT
UID:20260423T103646CEST-0589rX7O4u@https://www.rechentherapie-koeln.de/
DTSTAMP:20260423T083646Z
DESCRIPTION:Rechnen kann doch jeder\, oder? – So lernen Kinder rechnen.Refe
 rent: Torsten Landwehr\, Rechentherapiezentrum KölnAn diesem Abend wird fo
 lgenden Fragen auf den Grund gegangen:Wie lernen Kinder rechnen?Welche Sto
 lpersteine gibt es auf dem Weg zum guten Rechner?Was ist förderlich und wa
 s hindert?Was kann zu Hause helfen\, die Mathematik gut zu verstehen?Wie k
 ann ich Unsicherheiten in Mathematik bei meinem Kind einordnen?Wie unterst
 ütze ich mein Kind in den verschiedenen Phasen der Kindergartenzeit und de
 r Schulzeit optimal?Nach einem unterhaltsamen Einstieg in die wesentlichen
  Grundlagen stehen Anregungen für die häusliche Unterstützung im Vordergru
 nd. Ziel ist es hierbei leicht umsetzbare Wege zu zeigen\, die Kindern und
  Jugendlichen das Verständnis der Mathematik näher bringen und Spaß machen
 . Also: Erfolgreiche Alternativen zum sturen Pauken und oft zähen Ausfülle
 n von gekauften Übungsheften. https://www.rechentherapie-koeln.de/termine/
 terminverzeichnis/event/934-online-kostenlos-mathestress-in-der-schule-821
 1-kompaktwissen-fuer-eltern-und-lehrer
DTSTART:20140401T200000Z
DTEND:20140401T213000Z
LOCATION:Online ()
SUMMARY:Online+kostenlos: Mathestress in der Schule &#8211\; Kompaktwissen 
 für Eltern und Lehrer
URL:https://www.rechentherapie-koeln.de/termine/terminverzeichnis/event/934
 -online-kostenlos-mathestress-in-der-schule-8211-kompaktwissen-fuer-eltern
 -und-lehrer
END:VEVENT
END:VCALENDAR
