BEGIN:VCALENDAR
VERSION:2.0
PRODID:-//https://www.rechentherapie-koeln.de///NONSGML kigkonsult.se iCalcreator 2.10.15//
METHOD:PUBLISH
BEGIN:VEVENT
UID:20260423T114905CEST-97069PS4X2@https://www.rechentherapie-koeln.de/
DTSTAMP:20260423T094905Z
DESCRIPTION:	Symptome von Schwierigkeiten in der Mathematik	Differenzierung
  schwacher Rechner - Rechenschwacher - „fauler“ Schüler	Vorstellung nieder
 schwelliger Diagnosemöglichkeiten für die Schule	Entscheidung über interne
 /externe Hilfsangebote	Wege und Irrwege des Rechnens	Auswirkungen von mass
 iven mathematischen Problemen im Verlaufe der Schulzeit	Stolpersteine in d
 er Mathematik und Methoden\, diese im Unterricht/ Förderunterricht zu umge
 hen	Impulse für den Schulunterricht	Methoden\, für den Einsatz in Schulkla
 ssen mit dem Ziel eines tieferen mathematischen Verständnisses.	Basiswisse
 n entwickeln und nutzen lernen\; Beispiele für die Förderung aller Schüler
  https://www.rechentherapie-koeln.de/termine/terminverzeichnis/event/923-l
 ehrerfortbildung-mathematik-begreifen
DTSTART:20131210T151500Z
DTEND:20131210T181500Z
LOCATION:Zentrum für schulpraktische Lehrerausbildung Köln ()
SUMMARY:Lehrerfortbildung: Mathematik begreifen
URL:https://www.rechentherapie-koeln.de/termine/terminverzeichnis/event/923
 -lehrerfortbildung-mathematik-begreifen
END:VEVENT
END:VCALENDAR
