BEGIN:VCALENDAR
VERSION:2.0
PRODID:-//https://www.rechentherapie-koeln.de///NONSGML kigkonsult.se iCalcreator 2.10.15//
METHOD:PUBLISH
BEGIN:VEVENT
UID:20260421T113141CEST-3487brEZhK@https://www.rechentherapie-koeln.de/
DTSTAMP:20260421T093141Z
DESCRIPTION:Grundlegender Einstieg in die Anwendung der Wasserglasmethode i
 n der Primarstufe.Intensiver Praxiseinstieg in die Fördermöglichkeiten von
  Grundschulkindern mit dem Schwerpunkt der Wasserglasmethode. 	Wie lernen 
 Kinder rechnen?	Vorschulwissen - Schulwissen	Auffälligkeiten im mathematis
 chen Entwicklungsverlauf	Möglichkeiten der Diagnose	Konkrete Fördermöglich
 keiten Kinder für die KITA und die Grundschulzeit	Einstieg in die fachkund
 ige Anwendung der Wasserglasmethode https://www.rechentherapie-koeln.de/te
 rmine/terminverzeichnis/event/915-lehrerfortbildung-foerderung-in-der-grun
 dschule
DTSTART:20131111T133000Z
DTEND:20131111T163000Z
LOCATION:KGS Troisdorf ()
SUMMARY:Lehrerfortbildung: Förderung in der Grundschule
URL:https://www.rechentherapie-koeln.de/termine/terminverzeichnis/event/915
 -lehrerfortbildung-foerderung-in-der-grundschule
END:VEVENT
END:VCALENDAR
