BEGIN:VCALENDAR
VERSION:2.0
PRODID:-//https://www.rechentherapie-koeln.de///NONSGML kigkonsult.se iCalcreator 2.10.15//
METHOD:PUBLISH
BEGIN:VEVENT
UID:20260421T115031CEST-8972EjNi4s@https://www.rechentherapie-koeln.de/
DTSTAMP:20260421T095031Z
DESCRIPTION:Rechnen kann doch jeder\, oder? - So lernen Kinder rechnen.Refe
 rent: Torsten Landwehr\, Rechentherapiezentrum KölnAn diesem Abend wird fo
 lgenden Fragen auf den Grund gegangen:Wie lernen Kinder rechnen?Welche Sto
 lpersteine gibt es auf dem Weg zum guten Rechner?Was ist förderlich und wa
 s hindert?Was kann zu Hause helfen\, die Mathematik gut zu verstehen?Wie k
 ann ich Unsicherheiten in Mathematik bei meinem Kind einordnen?Wie unterst
 ütze ich mein Kind in den verschiedenen Phasen der Kindergartenzeit und de
 r Schulzeit optimal?Nach einem unterhaltsamen Einstieg in die wesentlichen
  Grundlagen stehen Anregungen für die häusliche Unterstützung im Vordergru
 nd. Ziel ist es hierbei leicht umsetzbare Wege zu zeigen\, die Kindern und
  Jugendlichen das Verständnis der Mathematik näher bringen und Spaß machen
 . Also: Erfolgreiche Alternativen zum sturen Pauken und oft zähen Ausfülle
 n von gekauften Übungsheften.Torsten Landwehr ist spezialisiert auf die Th
 erapie und Prävention von Rechenschwäche und Experte für neue Weg ein der 
 mathematischen Förderung. In seinen Vorträgen und Seminaren zeigt er\, wie
  unterhaltsam und spannend das Thema Mathematik sein kann. https://www.rec
 hentherapie-koeln.de/termine/terminverzeichnis/event/912-elternabend-rechn
 en-kann-doch-jeder-oder
DTSTART:20130926T200000Z
DTEND:20130926T213000Z
LOCATION:Kita Jüchen 'Unserer lieben Frau' ()
SUMMARY:Elternabend: Rechnen kann doch jeder\, oder?
URL:https://www.rechentherapie-koeln.de/termine/terminverzeichnis/event/912
 -elternabend-rechnen-kann-doch-jeder-oder
END:VEVENT
END:VCALENDAR
