BEGIN:VCALENDAR
VERSION:2.0
PRODID:-//https://www.rechentherapie-koeln.de///NONSGML kigkonsult.se iCalcreator 2.10.15//
METHOD:PUBLISH
BEGIN:VEVENT
UID:20260423T114808CEST-64319jJigD@https://www.rechentherapie-koeln.de/
DTSTAMP:20260423T094808Z
DESCRIPTION:Förderansätze für die Grundschule	Wie lernen Kinder rechnen?	Vo
 rschulwissen - Schulwissen	Auffälligkeiten im mathematischen Entwicklungsv
 erlauf	Möglichkeiten der Diagnose	Konkrete Fördermöglichkeiten Kinder für 
 die Grundschulzeit	Einstieg in die fachkundige Anwendung der Wasserglasmet
 hode https://www.rechentherapie-koeln.de/termine/terminverzeichnis/event/9
 10-lehrerfortbildung-8211-grundschule
DTSTART:20130902T090000Z
DTEND:20130902T130000Z
LOCATION:KGS Maternus ()
SUMMARY:Lehrerfortbildung &#8211\; Grundschule
URL:https://www.rechentherapie-koeln.de/termine/terminverzeichnis/event/910
 -lehrerfortbildung-8211-grundschule
END:VEVENT
END:VCALENDAR
