BEGIN:VCALENDAR
VERSION:2.0
PRODID:-//https://www.rechentherapie-koeln.de///NONSGML kigkonsult.se iCalcreator 2.10.15//
METHOD:PUBLISH
BEGIN:VEVENT
UID:20260421T120856CEST-6239ONmdcu@https://www.rechentherapie-koeln.de/
DTSTAMP:20260421T100856Z
DESCRIPTION:Der Tag der offenen Tür\, als Aktionstag Mathematik - für Schül
 er\, Erwachsene und Fachleute-Am 20.04.2013 ist es endlich wieder so weit:
  Wir öffnen für alle Schüler\, Eltern\, Erwachsene mit Matheproblemen\, Fa
 chleute und alle Interessierten rund um die Mathematik unsere Türen und ze
 igen\, wie unterhaltsam und verständlich Mathematik ist und was bei einer 
 Matheproblemen oder einer Dyskalkulie wirklich hilft. Neben Mitmachaktione
 n und Informationsständen wird es spannende Kurzvorträge und Miniworkshops
  geben. Deshalb kommen auch Sie und rühren Sie in Ihrem Freundes- und Beka
 nntenkreis kräftig die Werbetrommel!	Aktionen zum Mitmachen	Mathematik zum
  Anfassen	Infos aus Expertenhand	Kurzvorträge	MiniseminareMathematische Th
 emen von der Vorschule bis zur Oberstufe können an diesem Tag ganz entspan
 nt erforscht und verstanden werde.In kurzen Vorträgen und Workshops stelle
 n wir unsere Arbeit vor und geben auch einen Einblick in unsere neuen Semi
 nare für Erwachsene mit Mathestress.Selbst 'ausgewiesene Mathehasser' gabe
 n nach unseren bisherigen Veranstaltungen an\, dass sie ursprünglich nicht
  so lange hätten bleiben wollen und überrascht seien\, wie unterhaltsam un
 d stressfrei Mathe sein könne... :-)Außerdem werden zu meiner großen Freud
 e auch die Rosenzwerge (unser Lieblingsladen aus Nippes wenns um Spiele un
 d Kinder- und Jugendbücher geht) wieder einen Stand haben\, an dem Sie dir
 ekt unsere heißesten Spiele-Tipps und viele weitere schöne und spannende D
 inge verkaufen.Ich freue mich\, wenn auch Sie kommen und am besten direkt 
 interessierten Freunde\, Kollegen\, Nachbarn\, Lehrer\, Ärzte\, Psychologe
 n\, und und und mitbringen!Veranstaltungen11.00-11.10Mathe verstehen - Sch
 nupper-Workshop für Erwachsene11.20-11.30Mathe begreifen im Rechentherapie
 zentrum Köln11.40-11.50Ein Märchen von der Erfindung der Zahlen12.00-12.10
 Rechenschwäche-Dyskalkulie-Mathestress - Was ist das???12.20-12.30Mathe ve
 rstehen - Schnupperworkshop für Erwachsene12.40-12.50Ein Märchen von der E
 rfindung des Gleichzeichens13.00-13.10Mathe begreifen im Rechentherapiezen
 trum Köln13:20-13.30Mathe verstehen - Schnupperkurs für Erwachsene&nbsp\;S
 amstag\, 20.04.201310.30 - 14.30 UhrRechentherapiezentrum Köln0221 - 76 88
  67www.rechentherapie-koeln.dePlakat: -&gt\;klick  https://www.rechenthera
 pie-koeln.de/termine/terminverzeichnis/event/906-aktionstag-mathematik-821
 1-tag-der-offenen-tuer
DTSTART:20130420T103000Z
DTEND:20130420T143000Z
LOCATION:Rechentherapiezentrum Köln (Amsterdamer Straße 72\, 50735 Köln\, D
 eutschland )
SUMMARY:Aktionstag Mathematik &#8211\; Tag der offenen Tür
URL:https://www.rechentherapie-koeln.de/termine/terminverzeichnis/event/906
 -aktionstag-mathematik-8211-tag-der-offenen-tuer
END:VEVENT
END:VCALENDAR
