BEGIN:VCALENDAR
VERSION:2.0
PRODID:-//https://www.rechentherapie-koeln.de///NONSGML kigkonsult.se iCalcreator 2.10.15//
METHOD:PUBLISH
BEGIN:VEVENT
UID:20260423T114935CEST-0176EiUw9R@https://www.rechentherapie-koeln.de/
DTSTAMP:20260423T094935Z
DESCRIPTION:Matheprobleme in der Schule:- Hintergründe- Diagnose und Interp
 retation- Impulse für die schulische FörderungSie werden nach der Veransta
 ltung ein solides Rüstzeug für die Einordnung einer Rechenschwäche haben\,
  in der Lage sein\, Risikoschüler zu identifizieren\, Eltern für Schwierig
 keiten ihrer Kinder sensibilisieren und Anregungen für den Schulunterricht
  direkt umsetzen können. Teilnahme: kostenlos für 2 Lehrer/Schule (Eine Re
 servierungsgebühr von EUR 10 wird bei Erscheinen zurück erstattet)Anmeldun
 g: info@rechentherapie-koeln.deoder 0221-768867 https://www.rechentherapie
 -koeln.de/termine/terminverzeichnis/event/904-lehrerfortbildung-8211-koste
 nlos
DTSTART:20130313T143000Z
DTEND:20130313T173000Z
LOCATION:Rechentherapiezentrum Köln ()
SUMMARY:Lehrerfortbildung &#8211\; kostenlos
URL:https://www.rechentherapie-koeln.de/termine/terminverzeichnis/event/904
 -lehrerfortbildung-8211-kostenlos
END:VEVENT
END:VCALENDAR
