BEGIN:VCALENDAR
VERSION:2.0
PRODID:-//https://www.rechentherapie-koeln.de///NONSGML kigkonsult.se iCalcreator 2.10.15//
METHOD:PUBLISH
BEGIN:VEVENT
UID:20260421T105508CEST-5112H0TZde@https://www.rechentherapie-koeln.de/
DTSTAMP:20260421T085508Z
DESCRIPTION:	Konkrete Fördermöglichkeiten für die Primarstufe	fachkundige A
 nwendung der Wasserglasmethode https://www.rechentherapie-koeln.de/termine
 /terminverzeichnis/event/902-fortbildung-fuer-lehrer-innen-4-teil-einer-me
 hrtaegigen-fortbildung-zur-diagnostik-von-schwierigkeiten-in-mathematik-un
 d-entsprechenden-foerderansaetzen-fuer-die-grundschule
DTSTART:20130227T120000Z
DTEND:20130227T160000Z
LOCATION:Gemeinschaftsgrundschule Gutenbergschule ()
SUMMARY:Fortbildung für Lehrer/-innen 4. Teil einer mehrtägigen Fortbildung
  zur Diagnostik von Schwierigkeiten in Mathematik und entsprechenden Förde
 ransätzen für die Grundschule
URL:https://www.rechentherapie-koeln.de/termine/terminverzeichnis/event/902
 -fortbildung-fuer-lehrer-innen-4-teil-einer-mehrtaegigen-fortbildung-zur-d
 iagnostik-von-schwierigkeiten-in-mathematik-und-entsprechenden-foerderansa
 etzen-fuer-die-grundschule
END:VEVENT
END:VCALENDAR
