BEGIN:VCALENDAR
VERSION:2.0
PRODID:-//https://www.rechentherapie-koeln.de///NONSGML kigkonsult.se iCalcreator 2.10.15//
METHOD:PUBLISH
BEGIN:VEVENT
UID:20260421T103215CEST-1545Umwuu1@https://www.rechentherapie-koeln.de/
DTSTAMP:20260421T083215Z
DESCRIPTION:Wie lernen Kinder rechnen? Welche Stolpersteine gibt es auf dem
  Weg zum guten Rechner? Was ist förderlich und was hindert? Was kann zu Ha
 use helfen\, die Mathematik gut zu verstehen? Wie kann ich Unsicherheiten 
 in Mathematik bei meinem Kind einordnen? Wie unterstütze ich mein Kind in 
 den verschiedenen Phasen der Kindergarten- und Schulzeit optimal? https://
 www.rechentherapie-koeln.de/termine/terminverzeichnis/event/901-themenaben
 d-mathematik
DTSTART:20130221T200000Z
DTEND:20130221T213000Z
LOCATION:Kindertagesstätte Hohenfriedbergstraße ()
SUMMARY:Themenabend Mathematik
URL:https://www.rechentherapie-koeln.de/termine/terminverzeichnis/event/901
 -themenabend-mathematik
END:VEVENT
END:VCALENDAR
