BEGIN:VCALENDAR
VERSION:2.0
PRODID:-//https://www.rechentherapie-koeln.de///NONSGML kigkonsult.se iCalcreator 2.10.15//
METHOD:PUBLISH
BEGIN:VEVENT
UID:20260421T121718CEST-0455o2UtpL@https://www.rechentherapie-koeln.de/
DTSTAMP:20260421T101718Z
DESCRIPTION:Mit Spaß und Forscherdrang in die Welt der Mengen und Zahlen. M
 athematik sollte man nicht erklärt bekommen\, sondern entdecken dürfen. Da
 s geht\, weil unsere Umwelt und unser Alltag voller mathematischer Herausf
 orderungen und Erlebnisse ist. Ein perfektes Trainingslager also für klein
 e und große Forscher ab 2 Jahren. Die Fortbildung hat die Zielsetzung\, di
 e mathematische Basisförderung im Alltag der KITA fest zu verankern. So da
 ss den Kindern auch abseits von standardisierten Förderprogrammen mit viel
  Kreativität und Spaß ein unverkrampfter Umgang mit mathematischen Alltags
 themen ermöglicht werden kann. Lernprozesse sollen hierbei möglichst nur p
 rovoziert und moderiert werden\, nicht aber stringent von Erwachsenen vorg
 egeben oder geleitet. Das Spielen und Forschen in der Gruppe steht im Mitt
 elpunkt\, damit Kinder lustvoll die Erfahrungen sammeln können\, die sie s
 päter für das Verständnis der Schulmathematik brauchen. Die Rolle der Erzi
 eher(innen) entspricht dabei der eines Mitforschers\, Lernbegleiters und B
 eobachters. Themenschwerpunkte:&nbsp\; Rechnen lernen/mathematische Basisk
 ompetenzen\n\nwichtige Entwicklungsstufen und deren zeitliche Zuordnung\nV
 orläuferfunktionen\, auf die die Schule aufbaut\nAuffälligkeiten im Rechen
 lernprozess\nAuswirkungen von basalen Problemen auf die Schulzeit\nZwei Na
 men für mathematische Unsicherheiten: Rechenschwäche und Dyskalkulie\n\n&n
 bsp\; Förderung:\n\nSensibilisierung: Wo gibt es im Kindergartenalltag mat
 hematische Anforderungen\nKennenlernen und Installieren von speziellen All
 tags-Ritualen zur mathematischen Förderung\nFörderanlässe im KITA-Alltag e
 rkennen und nutzen\nElternarbeit zur Verknüpfung der Förderung im Kinderga
 rten mit der elterlichen Begleitung\nMathematik ganzheitlich und mit allen
  Sinnen erfahren\nKennenlernen ausgewählter Fördermodelle\n https://www.re
 chentherapie-koeln.de/termine/terminverzeichnis/event/896-fortbildung-fuer
 -erzieher-innen-lass-uns-die-mathematik-entdecken-mit-spass-und-forscherdr
 ang-in-die-welt-der-mengen-und-zahlen
DTSTART:20170926T070000Z
DTEND:20170926T140000Z
LOCATION:Feuerwache Korschenbroich (An der Sandkuhle 5\, 41352 Korschenbroi
 ch\, Deutschland)
SUMMARY:Fortbildung für Erzieher/-innen: Lass uns die Mathematik entdecken!
  Mit Spaß und Forscherdrang in die Welt der Mengen und Zahlen.  
URL:https://www.rechentherapie-koeln.de/termine/terminverzeichnis/event/896
 -fortbildung-fuer-erzieher-innen-lass-uns-die-mathematik-entdecken-mit-spa
 ss-und-forscherdrang-in-die-welt-der-mengen-und-zahlen
END:VEVENT
END:VCALENDAR
