BEGIN:VCALENDAR
VERSION:2.0
PRODID:-//https://www.rechentherapie-koeln.de///NONSGML kigkonsult.se iCalcreator 2.10.15//
METHOD:PUBLISH
BEGIN:VEVENT
UID:20260421T160736CEST-7570bTZS6c@https://www.rechentherapie-koeln.de/
DTSTAMP:20260421T140736Z
DESCRIPTION:Matheprobleme in der Schule:- Hintergründe- Diagnose und Interp
 retation- Impulse für die schulische FörderungSie werden nach der Veransta
 ltung ein solides Rüstzeug für die Einordnung einer Rechenschwäche haben\,
  in der Lage sein\, Risikoschüler zu identifizieren\, Eltern für Schwierig
 keiten ihrer Kinder sensibilisieren und Anregungen für den Schulunterricht
  direkt umsetzen können.Teilnahme: kostenlos für 2 Lehrer/Schule (Eine Res
 ervierungsgebühr von EUR 10 wird bei Erscheinen zurück erstattet) https://
 www.rechentherapie-koeln.de/termine/terminverzeichnis/event/890-lehrerfort
 bildung
DTSTART:20121126T143000Z
DTEND:20121126T173000Z
LOCATION:Rechentherapiezentrum Köln (Amsterdamer Straße 72\, 50735 Köln\, D
 eutschland )
SUMMARY:Lehrerfortbildung
URL:https://www.rechentherapie-koeln.de/termine/terminverzeichnis/event/890
 -lehrerfortbildung
END:VEVENT
END:VCALENDAR
