BEGIN:VCALENDAR
VERSION:2.0
PRODID:-//https://www.rechentherapie-koeln.de///NONSGML kigkonsult.se iCalcreator 2.10.15//
METHOD:PUBLISH
BEGIN:VEVENT
UID:20260421T102714CEST-8365ebpzKi@https://www.rechentherapie-koeln.de/
DTSTAMP:20260421T082714Z
DESCRIPTION:  zur Prävention von Rechenstörungen in der KITAfür das Jugenda
 mt Rhein Kreis NeussModul 1/3Themen	frühe Entwicklung der mathematischen B
 asiskompetenzen	wichtige Entwicklungsstufen und deren zeitliche Zuordnung	
 Vorläuferfunktionen\, auf die die Schule aufbaut	Früherkennung von Auffäll
 igkeiten in der Entwicklung der mathematischen Kompetenzen	Auffälligkeiten
  im Rechenlernprozess	Auswirkungen von basalen Problemen auf die Schulzeit
 	Zwei Namen für mathematische Unsicherheiten: Rechenschwäche und Dyskalkul
 ie	Förderung mathematischer Grundkompetenzen im Kindergarten	&nbsp\; https
 ://www.rechentherapie-koeln.de/termine/terminverzeichnis/event/886-fortbil
 dung-fuer-erzieher-innen-lass-uns-die-mathematik-entdecken-8211-mit-spass-
 und-forscherdrang-in-die-welt-der-mengen-und-zahlen
DTSTART:20121030T090000Z
DTEND:20121030T130000Z
LOCATION:Jugendamt Rhein Kreis Neuss ()
SUMMARY:Fortbildung für Erzieher/-innen: Lass uns die Mathematik entdecken 
  &#8211\; Mit Spaß und Forscherdrang in die Welt der Mengen und Zahlen.
URL:https://www.rechentherapie-koeln.de/termine/terminverzeichnis/event/886
 -fortbildung-fuer-erzieher-innen-lass-uns-die-mathematik-entdecken-8211-mi
 t-spass-und-forscherdrang-in-die-welt-der-mengen-und-zahlen
END:VEVENT
END:VCALENDAR
