BEGIN:VCALENDAR
VERSION:2.0
PRODID:-//https://www.rechentherapie-koeln.de///NONSGML kigkonsult.se iCalcreator 2.10.15//
METHOD:PUBLISH
BEGIN:VEVENT
UID:20260423T103646CEST-0589LwT7Am@https://www.rechentherapie-koeln.de/
DTSTAMP:20260423T083646Z
DESCRIPTION:'Rechnen kann doch jeder\, oder? Warum manchen an Mathe scheite
 rn und andere nicht.' -- Wie kommt es\, dass manche Kinder Probleme mit de
 m Einstieg in die Mathematik haben und andere nicht?-- Welche Voraussetzun
 gen braucht man\, um in Mathematik klar zu kommen?-- Was kann bereits im V
 orschulbereich auf eine Rechenschwäche hindeuten\, was fällt zu Schulbegin
 n auf?-- Wie denkt einrechenschwaches Kind?-- Warum findet mancher Schüler
  Mathematik so einfach?-- Wie kann ich mein Kind unterstützen\, wenn es Pr
 obleme in Mathematik hat?-- Welche Leistungs- und Verhaltensauffälligkeite
 n werden oft durch massive Matheprobleme ausgelöst?-- Wie schaffen es auch
  rechenschwache Kinder\, Jugendliche und Erwachsene doch noch den Einstieg
  in die Mathematik zu finden?&nbsp\; https://www.rechentherapie-koeln.de/t
 ermine/terminverzeichnis/event/885-ein-basis-abend-fuer-eltern-und-interes
 sierte-lehrer-innen-in-kooperation-mit-dem-fib-e-v-und-dem-familienforum-k
 oeln-agnesviertel
DTSTART:20121029T183000Z
DTEND:20121029T203000Z
LOCATION:VHS Köln im KOMED ()
SUMMARY:Ein Basis-Abend für Eltern und interessierte Lehrer/innen in Kooper
 ation mit dem FIB e.V. und dem FamilienForum Köln Agnesviertel.
URL:https://www.rechentherapie-koeln.de/termine/terminverzeichnis/event/885
 -ein-basis-abend-fuer-eltern-und-interessierte-lehrer-innen-in-kooperation
 -mit-dem-fib-e-v-und-dem-familienforum-koeln-agnesviertel
END:VEVENT
END:VCALENDAR
