BEGIN:VCALENDAR
VERSION:2.0
PRODID:-//https://www.rechentherapie-koeln.de///NONSGML kigkonsult.se iCalcreator 2.10.15//
METHOD:PUBLISH
BEGIN:VEVENT
UID:20260421T104754CEST-9955lPIDl7@https://www.rechentherapie-koeln.de/
DTSTAMP:20260421T084754Z
DESCRIPTION:2. Teil einer mehrtägigen Fortbildung zur Diagnostik von Schwie
 rigkeiten in Mathematik und entsprechenden Förderansätzen für die Grundsch
 ule	Möglichkeiten der Diagnose	Konkrete Fördermöglichkeiten für die Primar
 stufe	fachkundige Anwendung der Wasserglasmethode&nbsp\; https://www.reche
 ntherapie-koeln.de/termine/terminverzeichnis/event/884-fortbildung-fuer-le
 hrer-innen
DTSTART:20121024T120000Z
DTEND:20121024T160000Z
LOCATION:Gemeinschaftsgrundschule Gutenbergschule ()
SUMMARY:Fortbildung für Lehrer/-innen
URL:https://www.rechentherapie-koeln.de/termine/terminverzeichnis/event/884
 -fortbildung-fuer-lehrer-innen
END:VEVENT
END:VCALENDAR
