BEGIN:VCALENDAR
VERSION:2.0
PRODID:-//https://www.rechentherapie-koeln.de///NONSGML kigkonsult.se iCalcreator 2.10.15//
METHOD:PUBLISH
BEGIN:VEVENT
UID:20260421T105112CEST-43992Fr0a5@https://www.rechentherapie-koeln.de/
DTSTAMP:20260421T085112Z
DESCRIPTION:3 Abende in Kooperation mit der  VHS Köln https://www.rechenthe
 rapie-koeln.de/termine/terminverzeichnis/event/881-erwachsenen-kurs-mathem
 atik-im-alltag-erfolgreicher-und-selbstsicherer-im-beruf-dank-mathedurchbl
 ick
DTSTART:20120829T180000Z
DTEND:20120829T193000Z
LOCATION:VHS Köln im KOMED ()
SUMMARY:Erwachsenen-Kurs Mathematik im Alltag: Erfolgreicher und selbstsich
 erer im Beruf dank Mathedurchblick
URL:https://www.rechentherapie-koeln.de/termine/terminverzeichnis/event/881
 -erwachsenen-kurs-mathematik-im-alltag-erfolgreicher-und-selbstsicherer-im
 -beruf-dank-mathedurchblick
END:VEVENT
END:VCALENDAR
