BEGIN:VCALENDAR
VERSION:2.0
PRODID:-//https://www.rechentherapie-koeln.de///NONSGML kigkonsult.se iCalcreator 2.10.15//
METHOD:PUBLISH
BEGIN:VEVENT
UID:20260423T114839CEST-1577b9a587@https://www.rechentherapie-koeln.de/
DTSTAMP:20260423T094839Z
DESCRIPTION:Wie lernen Kinder rechnen? Welche Stolpersteine gibt es auf dem
  Weg zum guten Rechner? Was ist förderlich und was hindert? Was kann zu Ha
 use helfen\, die Mathematik gut zu verstehen? Wie kann ich Unsicherheiten 
 in Mathematik bei meinem Kind einordnen? Wie unterstütze ich mein Kind in 
 den verschiedenen Phasen der Kindergarten- und Schulzeit optimal?&nbsp\; h
 ttps://www.rechentherapie-koeln.de/termine/terminverzeichnis/event/871-elt
 ernabend-kita-st-martinus-bedburdyk
DTSTART:20120502T193000Z
DTEND:20120502T203000Z
LOCATION:Katholischer Kindergarten St. Martinus ()
SUMMARY:Elternabend KITA St. Martinus\, Bedburdyk
URL:https://www.rechentherapie-koeln.de/termine/terminverzeichnis/event/871
 -elternabend-kita-st-martinus-bedburdyk
END:VEVENT
END:VCALENDAR
