BEGIN:VCALENDAR
VERSION:2.0
PRODID:-//https://www.rechentherapie-koeln.de///NONSGML kigkonsult.se iCalcreator 2.10.15//
METHOD:PUBLISH
BEGIN:VEVENT
UID:20260421T115324CEST-2282LlHsrd@https://www.rechentherapie-koeln.de/
DTSTAMP:20260421T095324Z
DESCRIPTION:Einführung in das neue mathematische Fördermodell für die Schül
 er des Georg-Büchner Gymnasiums.Teil 1/3 https://www.rechentherapie-koeln.
 de/termine/terminverzeichnis/event/868-lehrerfortbildung
DTSTART:20120320T100000Z
DTEND:20120320T140000Z
LOCATION:Georg Büchner-Gymnasium ()
SUMMARY:Lehrerfortbildung
URL:https://www.rechentherapie-koeln.de/termine/terminverzeichnis/event/868
 -lehrerfortbildung
END:VEVENT
END:VCALENDAR
