BEGIN:VCALENDAR
VERSION:2.0
PRODID:-//https://www.rechentherapie-koeln.de///NONSGML kigkonsult.se iCalcreator 2.10.15//
METHOD:PUBLISH
BEGIN:VEVENT
UID:20260421T104753CEST-36282wBc1U@https://www.rechentherapie-koeln.de/
DTSTAMP:20260421T084753Z
DESCRIPTION:- Vorbereitung\n- Durchführung\n- Auswertung und Interpretation
 \n- Erarbeiten von Förderansätzen\n&nbsp\;\nLernen Sie praxisnah die Anwen
 dung des Hochhaustests zur Überprüfung der mathematischen Basisfertigkeite
 n von Grundschülern. https://www.rechentherapie-koeln.de/termine/terminver
 zeichnis/event/864-hochhaustest-workshop-erfolgreiche-diagnostik-in-der-gr
 undschule
DTSTART:20120229T150000Z
DTEND:20120229T170000Z
LOCATION:Rechentherapiezentrum Köln (Amsterdamer Straße 72\, 50735 Köln\, D
 eutschland )
SUMMARY:Hochhaustest-Workshop: Erfolgreiche Diagnostik in der Grundschule
URL:https://www.rechentherapie-koeln.de/termine/terminverzeichnis/event/864
 -hochhaustest-workshop-erfolgreiche-diagnostik-in-der-grundschule
END:VEVENT
END:VCALENDAR
