BEGIN:VCALENDAR
VERSION:2.0
PRODID:-//https://www.rechentherapie-koeln.de///NONSGML kigkonsult.se iCalcreator 2.10.15//
METHOD:PUBLISH
BEGIN:VEVENT
UID:20260421T105107CEST-74742xVnD5@https://www.rechentherapie-koeln.de/
DTSTAMP:20260421T085107Z
DESCRIPTION:Bei jedem Termin betrachten wir ein Schwerpunktthema der Mathem
 atik ganz genau:- Wofür braucht ein Schüler dieses Thema?- Wie finden Schü
 ler den richtigen Zugang zum Thema?- Was können wir tun\, damit das Thema 
 bestens verstanden und nicht mehr vergessen wird.Nach dem Fachimpuls könne
 n Fragen gestellt werden\, auf die detailliert eingegangen wird.Der Traile
 r http://youtu.be/RVbxnM3vgeQBitte schon jetzt anmelden und einen Platz si
 chern.Info und Anmeldung: -&gt\;klick https://www.rechentherapie-koeln.de/
 termine/terminverzeichnis/event/861-matheworkshop-online-fuer-eltern-lehre
 r-und-erzieher-mm-cm-dm-8230-die-masse
DTSTART:20140328T150000Z
DTEND:20140328T170000Z
LOCATION:Rechentherapiezentrum Köln (Amsterdamer Straße 72\, 50735 Köln\, D
 eutschland )
SUMMARY:Matheworkshop (online) für Eltern\, Lehrer und Erzieher: mm\, cm\, 
 dm&#8230\; die Maße
URL:https://www.rechentherapie-koeln.de/termine/terminverzeichnis/event/861
 -matheworkshop-online-fuer-eltern-lehrer-und-erzieher-mm-cm-dm-8230-die-ma
 sse
END:VEVENT
END:VCALENDAR
