BEGIN:VCALENDAR
VERSION:2.0
PRODID:-//https://www.rechentherapie-koeln.de///NONSGML kigkonsult.se iCalcreator 2.10.15//
METHOD:PUBLISH
BEGIN:VEVENT
UID:20260421T115029CEST-4293vvtWdW@https://www.rechentherapie-koeln.de/
DTSTAMP:20260421T095029Z
DESCRIPTION:Wenn Mathematik ein Buch mit sieben Siegeln ist und auch Übungs
 mararthons\, Nachhilfestunden und Lernvideos zu keinem Erfolg verhelfen\, 
 dann wird der Mathestress für die Betroffenen und deren Familien schnell z
 u einer echten Belastung. Dabei gibt es einen Ausweg\, wenn man versteht\,
  wie Mathematikprobleme entstehen und was bei deren Überwindung wirklich h
 ilft. Torsten Landwehr ist Gründer und Leiter von Mathevision und dem Rech
 entherapiezentrum Köln\, hilft seit über fünfundzwanzig Jahren Menschen mi
 t Mathestress und hat in all den Jahren noch keinen hoffnungslosen 'Fall' 
 erlebt. In diesem kostenlosen Live-Webinar steigt gibt er einen umfassende
 n Einblick in die Themen Mathestress\, Rechenschwäche und Dyskalkulie und 
 zeigt Auswege aus dem Teufelskreis aus Üben\, Misserfolgen\, Frustration u
 nd Resignation und beantwortet alle Fragen der Teilnehmende. Anmeldung: ht
 tps://www.edudip.com/de/webinar/rechenschwache-uberwinden/1122390 https://
 www.rechentherapie-koeln.de/termine/terminverzeichnis/event/1005-mathestre
 ss-begreifen-und-ueberwinden-online-infoabend
DTSTART:20210422T180000Z
DTEND:20210422T191500Z
LOCATION:Online ()
SUMMARY:Mathestress begreifen und Überwinden - Online-Infoabend
URL:https://www.rechentherapie-koeln.de/termine/terminverzeichnis/event/100
 5-mathestress-begreifen-und-ueberwinden-online-infoabend
END:VEVENT
END:VCALENDAR
